BEGIN:VCALENDAR
VERSION:2.0
PRODID:-//eventon.com NONSGML v1.0//EN
CALSCALE:GREGORIAN
METHOD:PUBLISH
BEGIN:VEVENT
UID:69e71625edbc8
DTSTAMP:20260421T081605
DTSTART:20251012T103000Z
DTEND:20251012T123000Z
TZID:Europe/Budapest
LOCATION:
SUMMARY:Szamarabb a szamárnál
DESCRIPTION:Az őszi félévben három bábelőadással várja az óvodásokat és kisiskolásokat a Lóvasút Kulturális és Rendezvényközpont. Október 12. 10:00-12:30 Aranyszamár Bábszínház: Szamarabb a szamárnál + szamaras játéktér (történetek az emberi gyarlóságról) A játéktér a teraszon 10:00-kor nyit\,  az előadás 10:30-kor kezdődik! Elhangzó szamaras mesék: Bálám szamara A szamár és a kút[..]\nhttps://lovasut.hu/events/szamarabb-a-szamarnal/
URL:https://lovasut.hu/events/szamarabb-a-szamarnal/
END:VEVENT
END:VCALENDAR