BEGIN:VCALENDAR
VERSION:2.0
PRODID:-//eventon.com NONSGML v1.0//EN
CALSCALE:GREGORIAN
METHOD:PUBLISH
BEGIN:VEVENT
UID:69e6b5063de84
DTSTAMP:20260421T012142
DTSTART:20251109T103000Z
DTEND:20251109T123000Z
TZID:Europe/Budapest
LOCATION:
SUMMARY:Szegény legény szerencséje
DESCRIPTION:Az őszi félévben három bábelőadással várja az óvodásokat és kisiskolásokat a Lóvasút Kulturális és Rendezvényközpont. November 9. 10:30-12:30 Meseerdő Bábszínház: Szegény legény szerencséje Hol volt hol nem volt\,  volt egyszer egy szegény legény\,  aki olyan szegény voltak mint a tempolom egere. Egy napon vándorbottal a kezében elindult szerencsét próbálni&#8230;. A[..]\nhttps://lovasut.hu/events/szegeny-legeny-szerencseje/
URL:https://lovasut.hu/events/szegeny-legeny-szerencseje/
END:VEVENT
END:VCALENDAR