BEGIN:VCALENDAR
VERSION:2.0
PRODID:-//eventon.com NONSGML v1.0//EN
CALSCALE:GREGORIAN
METHOD:PUBLISH
BEGIN:VEVENT
UID:69e69a642457b
DTSTAMP:20260420T232804
DTSTART:20251214T103000Z
DTEND:20251214T123000Z
TZID:Europe/Budapest
LOCATION:
SUMMARY:A Télkirály utazása - A Csillagszemű juhász kozmikus kalandja (Ünnepváró különkiadás)
DESCRIPTION:Az őszi félévben három bábelőadással várja az óvodásokat és kisiskolásokat a Lóvasút Kulturális és Rendezvényközpont. December 14. 10:30 Kámfor Zenés Bábszínház &#8211; A Csillagszemű juhász kozmikus kalandja (Ünnepváró különkiadás) Volt egyszer egy bátor juhászlegény\,  aki furfangjával és furulya szavával még egy hatalmas\,  morcos királyt is térdre kényszerített. Jutalmul elnyerte a[..]\nhttps://lovasut.hu/events/kamfor/
URL:https://lovasut.hu/events/kamfor/
END:VEVENT
END:VCALENDAR