BEGIN:VCALENDAR
VERSION:2.0
PRODID:-//eventon.com NONSGML v1.0//EN
CALSCALE:GREGORIAN
METHOD:PUBLISH
BEGIN:VEVENT
UID:69e6b51f9fb88
DTSTAMP:20260421T012207
DTSTART:20251116T193000Z
DTEND:20251116T204500Z
TZID:Europe/Budapest
LOCATION:
SUMMARY:Márfi Márk: Telik
DESCRIPTION:TELIK – egy óra az életedből Író\,  előadó: Márfi Márk Dramaturg: Bíró Bence Zene: Mester Dávid Alkotótárs\,  rendező: Tóth Péter Túl az 50. előadáson!!! 2021 augusztusának végén\,  a Lóvasút Kulturális és Rendezvénytérben mutatták be a Telik – egy óra az életedből című produkciót Márfi Márk játékával. Az előadás érdekessége\,  hogy[..]\nhttps://lovasut.hu/events/marfi-mark-telik-1116/
URL:https://lovasut.hu/events/marfi-mark-telik-1116/
END:VEVENT
END:VCALENDAR