BEGIN:VCALENDAR
VERSION:2.0
PRODID:-//eventon.com NONSGML v1.0//EN
CALSCALE:GREGORIAN
METHOD:PUBLISH
BEGIN:VEVENT
UID:69e71176848d2
DTSTAMP:20260421T075606
DTSTART:20251011T093000Z
DTEND:20251011T113000Z
TZID:Europe/Budapest
LOCATION:
SUMMARY:Újrakezdlek
DESCRIPTION:✨ ÚjraKezdlek – Joggal. Lélekkel. ✨ Visszatérni a munka világába kisgyermekes anyaként egyszerre izgalmas és kihívásokkal teli. Az ÚjraKezdlek programot azért hoztuk létre\,  hogy támogassunk téged ebben az időszakban – egyszerre adva jogi tudást és gyakorlati készségeket\,  amelyekre valóban szükséged lesz. 👩⚖️ Mit nyújt a program? • Munkajogi tudás –[..]\nhttps://lovasut.hu/events/ujrakezdlek-1011/
URL:https://lovasut.hu/events/ujrakezdlek-1011/
END:VEVENT
END:VCALENDAR