BEGIN:VCALENDAR
VERSION:2.0
PRODID:-//eventon.com NONSGML v1.0//EN
CALSCALE:GREGORIAN
METHOD:PUBLISH
BEGIN:VEVENT
UID:69e6b57a6e428
DTSTAMP:20260421T012338
DTSTART:20251109T190000Z
DTEND:20251109T203000Z
TZID:Europe/Budapest
LOCATION:
SUMMARY:Nőforgás
DESCRIPTION:A „Nőforgás” című előadás egy innovatív\,  multidiszciplináris produkció\,  amelyben a zene\,  a tánc és a vizuális művészetek közös alkotómunkában találkoznak. A mű a női lét három életszakaszát– a fiatal lányt\,  az érett nőt és a bölcs asszonyt – dolgozza fel. Az előadás a női archetípusok mentén bemutatja az ártatlanságot\,  a[..]\nhttps://lovasut.hu/events/noforgas/
URL:https://lovasut.hu/events/noforgas/
END:VEVENT
END:VCALENDAR