BEGIN:VCALENDAR
VERSION:2.0
PRODID:-//eventon.com NONSGML v1.0//EN
CALSCALE:GREGORIAN
METHOD:PUBLISH
BEGIN:VEVENT
UID:69e711ae8e4d2
DTSTAMP:20260421T075702
DTSTART:20251107T190000Z
DTEND:20251107T200000Z
TZID:Europe/Budapest
LOCATION:
SUMMARY:Nem\,  nem\,  köszönöm
DESCRIPTION:Tájékoztatjuk kedves nézőinket\,  hogy az előadás technikai okokból sajnos elmarad! A jegyek visszaváltásával kapcsolatban kérjük a jegy@momkult.hu címre írjanak. Elnézést kérünk az okozott kellemetlenségekért és megértésüket köszönjük! &#8212;&#8212;&#8212;&#8212;&#8212;&#8212;&#8212;&#8212;&#8212;&#8212;&#8212;&#8212;&#8212;&#8212;&#8212;&#8212;&#8212;&#8212;&#8212;&#8212;&#8212;&#8212;&#8212;&#8211; Mióta és miért issza cukor nélkül a kávét a harmincas ügyésznő? Miért követett el valami retteneteset? Egressy Zoltán monológja a tetthez vezető[..]\nhttps://lovasut.hu/events/nem-nem-koszonom/
URL:https://lovasut.hu/events/nem-nem-koszonom/
END:VEVENT
END:VCALENDAR