BEGIN:VCALENDAR
VERSION:2.0
PRODID:-//eventon.com NONSGML v1.0//EN
CALSCALE:GREGORIAN
METHOD:PUBLISH
BEGIN:VEVENT
UID:69e68805a7e98
DTSTAMP:20260420T220941
DTSTART:20260225T190000Z
DTEND:20260225T203000Z
TZID:Europe/Budapest
LOCATION:
SUMMARY:Üvegfal
DESCRIPTION:***Tisztelt Jegyvásárló! Sajnálattal tájékoztatjuk\,  hogy a 2026. február 25-i Gryllus Dorka &#8211; Simon Kornél: Üvegfal c. előadás nem tud megvalósulni\,  de 2026. március 2-án pótlásra kerül. A február 25-i előadásra szóló jegyek automatikusan érvényesek a későbbi időpontra\,  de ha az új időpont Önnek nem megfelelő\,  február 24-ig lehetősége van a[..]\nhttps://lovasut.hu/events/uvegfal-0225/
URL:https://lovasut.hu/events/uvegfal-0225/
END:VEVENT
END:VCALENDAR