BEGIN:VCALENDAR
VERSION:2.0
PRODID:-//eventon.com NONSGML v1.0//EN
CALSCALE:GREGORIAN
METHOD:PUBLISH
BEGIN:VEVENT
UID:69e6b5063ba83
DTSTAMP:20260421T012142
DTSTART:20251207T190000Z
DTEND:20251207T204500Z
TZID:Europe/Budapest
LOCATION:
SUMMARY:Hagyaték
DESCRIPTION:Tisztelt Jegyvásárlók! Az előadás technikai okokból sajnos elmarad. A jegyárak visszautalása folyamatban. Bármilyen jegyekkel kapcsolatos probléma esetén kérjük írajanak a jegy@momkult.hu címre. Köszönjük a megértésüket és elnézést kérünk az okozott kellemetlenségekért! &#8212;&#8212;&#8212;&#8212;&#8212;&#8212;&#8212;&#8212;&#8212; A világhírű gyermekkorkutató\,  Alice Miller és fia\,  a szintén pszichológus Martin Miller kapcsolatát bemutató előadás. A darabot Martin[..]\nhttps://lovasut.hu/events/hagyatek/
URL:https://lovasut.hu/events/hagyatek/
END:VEVENT
END:VCALENDAR