BEGIN:VCALENDAR
VERSION:2.0
PRODID:-//eventon.com NONSGML v1.0//EN
CALSCALE:GREGORIAN
METHOD:PUBLISH
BEGIN:VEVENT
UID:69e711f798e68
DTSTAMP:20260421T075815
DTSTART:20251022T180000Z
DTEND:20251022T200000Z
TZID:Europe/Budapest
LOCATION:
SUMMARY:Kinek a döntése?
DESCRIPTION:A halál\,  mint az élet elkerülhetetlen része\,  mindig is központi kérdése volt az emberi létnek. Az élet méltó befejezése és az asszisztált öngyilkosság kérdései olyan témák\,  amelyek nemcsak az egyéni döntéseket\,  hanem a társadalmi normákat\,  vallási tanításokat és politikai állásfoglalásokat is érintik. Ezen a kerekasztal-beszélgetésen három különböző perspektívát képviselő szakértő[..]\nhttps://lovasut.hu/events/kinek-a-dontese-kerekasztal-az-eletvegi-donteshez-valo-jogrol/
URL:https://lovasut.hu/events/kinek-a-dontese-kerekasztal-az-eletvegi-donteshez-valo-jogrol/
END:VEVENT
END:VCALENDAR