BEGIN:VCALENDAR
VERSION:2.0
PRODID:-//eventon.com NONSGML v1.0//EN
CALSCALE:GREGORIAN
METHOD:PUBLISH
BEGIN:VEVENT
UID:69e712161f837
DTSTAMP:20260421T075846
DTSTART:20251028T190000Z
DTEND:20251028T230000Z
TZID:Europe/Budapest
LOCATION:
SUMMARY:Utolsó előtti vacsora
DESCRIPTION:Az Utolsó előtti vacsora című előadás alapvetően közösségi élményt nyújt. Szertartásos formája egy zenés színházi lakoma\,  melynek része egy 6 fogásból álló ételsor elfogyasztása\,  amelynek azonban minden eleme jelentéssel bír. A helyben készült étkeket a közreműködő táncosok és akrobaták szolgálják fel\,  mert ezek a szimbolikus jelentéssel bíró ételek képezik alapját[..]\nhttps://lovasut.hu/events/utolso-elotti-vacsora/
URL:https://lovasut.hu/events/utolso-elotti-vacsora/
END:VEVENT
END:VCALENDAR