BEGIN:VCALENDAR
VERSION:2.0
PRODID:-//eventon.com NONSGML v1.0//EN
CALSCALE:GREGORIAN
METHOD:PUBLISH
BEGIN:VEVENT
UID:69e6e7534797e
DTSTAMP:20260421T045619
DTSTART:20251222T180000Z
DTEND:20251222T191500Z
TZID:Europe/Budapest
LOCATION:
SUMMARY:Cantate Amorose
DESCRIPTION:Giovanni Battista Bassani 1650 körül született Padovában\,  élete nagy részében Ferraraban tevékenykedett\,  mint capellmeister\,  hegedűs és orgonista. Bassani korának ünnepelt hegedűvirtuóza volt\,  egyes 18. századi történetírók állítása szerint ő maga tanította Corellit. A mai közönség számára elsősorban triószonátái ismertek\,  azonban a mester számos operát\,  oratóriumot és egyéb vokális művet is[..]\nhttps://lovasut.hu/events/cantate-amorose/
URL:https://lovasut.hu/events/cantate-amorose/
END:VEVENT
END:VCALENDAR