BEGIN:VCALENDAR
VERSION:2.0
PRODID:-//eventon.com NONSGML v1.0//EN
CALSCALE:GREGORIAN
METHOD:PUBLISH
BEGIN:VEVENT
UID:69e6b584c9b70
DTSTAMP:20260421T012348
DTSTART:20251208T100000Z
DTEND:20251208T105000Z
TZID:Europe/Budapest
LOCATION:
SUMMARY:Állatmesék
DESCRIPTION:Állatmesék &#8211; táncelőadás gyerekeknek és szüleiknek “A mese nem csak az\,  amit mutat a látszat\,  mert benne oktatónk lesz minden egyes állat.” /Jean de La Fontaine/ Népszerű\,  és történelmi okokból feléledő műfajhoz nyúl Juhász Kata új\,  Állatmesék című táncszínházi előadásával. A nyugati civilizációval egyidős állatmese műfaja\,  egyszerű szimbolikájával hagyományosan olyan[..]\nhttps://lovasut.hu/events/allatmesek/
URL:https://lovasut.hu/events/allatmesek/
END:VEVENT
END:VCALENDAR