BEGIN:VCALENDAR
VERSION:2.0
PRODID:-//eventon.com NONSGML v1.0//EN
CALSCALE:GREGORIAN
METHOD:PUBLISH
BEGIN:VEVENT
UID:69e6b4c87c91e
DTSTAMP:20260421T012040
DTSTART:20251204T190000Z
DTEND:20251204T203000Z
TZID:Europe/Budapest
LOCATION:
SUMMARY:BOGGIE - Karácsonyi ráhangolódós koncert
DESCRIPTION:Boggie saját dalai mellett karácsonyi örökzöldekkel is készül. A koncert\,  ahogy azt az elmúlt években már megszokhattuk\,  meghitt és családias hangulatú lesz. Szeretettel látjuk a gyermekeket is szüleikkel! A családosoknak gyerekjeggyel kedveskedünk\,  0-6 éves korig pedig ingyenes a belépés! Tökéletes ráhangolódás az ünnepekre! Gyertek\,  hangolódjatok Velünk a karácsonyra december 4-én[..]\nhttps://lovasut.hu/events/boggie-karacsonyi-rahangolodos-koncert/
URL:https://lovasut.hu/events/boggie-karacsonyi-rahangolodos-koncert/
END:VEVENT
END:VCALENDAR