BEGIN:VCALENDAR
VERSION:2.0
PRODID:-//eventon.com NONSGML v1.0//EN
CALSCALE:GREGORIAN
METHOD:PUBLISH
BEGIN:VEVENT
UID:69e72fb7bfe33
DTSTAMP:20260421T100511
DTSTART:20250915
DTEND:20251216
TZID:Europe/Budapest
LOCATION:
SUMMARY:Fitdance - Barta Sylvivel
DESCRIPTION:Fitdance &#8211; Mozdulj Barta Sylvivel hétfőn 8.30-tól 10.00-ig Ízületkímélő\,  táncos mozgás latin zenére\,  egyszerű koreográfiákkal. Kortól\,  edzettségi szinttől függetlenül látogatható! Vezeti: Barta Sylvia Zumba Fitness\,  ZumbaGold\,  ZumbaKids instruktor és aerobik oktató. Telefonszám: +36 30/625-6065. A december 8-i alkalom elmarad!\nhttps://lovasut.hu/events/fitdance-barta-sylvivel_2025osz/
URL:https://lovasut.hu/events/fitdance-barta-sylvivel_2025osz/
END:VEVENT
END:VCALENDAR