BEGIN:VCALENDAR
VERSION:2.0
PRODID:-//eventon.com NONSGML v1.0//EN
CALSCALE:GREGORIAN
METHOD:PUBLISH
BEGIN:VEVENT
UID:69e69ad420c80
DTSTAMP:20260420T232956
DTSTART:20260118T190000Z
DTEND:20260118T203000Z
TZID:Europe/Budapest
LOCATION:
SUMMARY:Nőforgás
DESCRIPTION:A „Nőforgás” című előadás egy innovatív\,  multidiszciplináris produkció\,  amelyben a zene\,  a tánc és a vizuális művészetek közös alkotómunkában találkoznak. A mű a női lét három életszakaszát– a fiatal lányt\,  az érett nőt és a bölcs asszonyt – dolgozza fel. Az előadás a női archetípusok mentén bemutatja az ártatlanságot\,  a[..]\nhttps://lovasut.hu/events/noforgas-0118/
URL:https://lovasut.hu/events/noforgas-0118/
END:VEVENT
END:VCALENDAR