BEGIN:VCALENDAR
VERSION:2.0
PRODID:-//eventon.com NONSGML v1.0//EN
CALSCALE:GREGORIAN
METHOD:PUBLISH
BEGIN:VEVENT
UID:69e6b4e166024
DTSTAMP:20260421T012105
DTSTART:20251210T190000Z
DTEND:20251210T200000Z
TZID:Europe/Budapest
LOCATION:
SUMMARY:Banyatank - Set Myself Free
DESCRIPTION:A Banyatank csapata nagy örömmel mutatja be első önálló koncertjét a Lóvasúton! A Polonyi Artemisz és Remes Zsófi művészeti vezetésével megalakult és idén 6 tagúra bővült Banyatank a cappella együttes kóruszenei\,  jazz\,  barbershop és saját kompozíciókból álló repertoárjában komolyzenei\,  kortárs és könnyűzenei hatások is megtalálhatók\,  ezeket testdobbal\,  torokénekléssel\,  és más[..]\nhttps://lovasut.hu/events/banyatank-set-myself-free/
URL:https://lovasut.hu/events/banyatank-set-myself-free/
END:VEVENT
END:VCALENDAR