BEGIN:VCALENDAR
VERSION:2.0
PRODID:-//eventon.com NONSGML v1.0//EN
CALSCALE:GREGORIAN
METHOD:PUBLISH
BEGIN:VEVENT
UID:69e6b55f8aabf
DTSTAMP:20260421T012311
DTSTART:20251130T170000Z
DTEND:20251130T210000Z
TZID:Europe/Budapest
LOCATION:
SUMMARY:UH teszt 1.
DESCRIPTION:Bárány 3 Ysbryd Oergell Makayanna The Stanley Maneuver &#8222;Rég találkoztunk\,  UH Fest sem volt idén. Arra gondoltunk\,  hogy szívesen látnánk benneteket\,  kapcsolódnánk veletek megint\,  ennek pedig számunkra továbbra is az élő\,  szabad és autonóm zene az elsődleges módja. November 30-án\,  vasárnap délután 5 órától a tizenkettedik kerületi Lóvasútra hívunk titeket\, [..]\nhttps://lovasut.hu/events/uh-teszt-1/
URL:https://lovasut.hu/events/uh-teszt-1/
END:VEVENT
END:VCALENDAR