BEGIN:VCALENDAR
VERSION:2.0
PRODID:-//eventon.com NONSGML v1.0//EN
CALSCALE:GREGORIAN
METHOD:PUBLISH
BEGIN:VEVENT
UID:69e6b53a788ed
DTSTAMP:20260421T012234
DTSTART:20251208T120000Z
DTEND:20251208T125000Z
TZID:Europe/Budapest
LOCATION:
SUMMARY:Állatmesék
DESCRIPTION:Állatmesék &#8211; táncelőadás gyerekeknek és szüleiknek “A mese nem csak az\,  amit mutat a látszat\,  mert benne oktatónk lesz minden egyes állat.” /Jean de La Fontaine/ Népszerű\,  és történelmi okokból feléledő műfajhoz nyúl Juhász Kata új\,  Állatmesék című táncszínházi előadásával. A nyugati civilizációval egyidős állatmese műfaja\,  egyszerű szimbolikájával hagyományosan olyan[..]\nhttps://lovasut.hu/events/allatmesek-2/
URL:https://lovasut.hu/events/allatmesek-2/
END:VEVENT
END:VCALENDAR