BEGIN:VCALENDAR
VERSION:2.0
PRODID:-//eventon.com NONSGML v1.0//EN
CALSCALE:GREGORIAN
METHOD:PUBLISH
BEGIN:VEVENT
UID:69e69ad4066d4
DTSTAMP:20260420T232956
DTSTART:20260125T100000Z
DTEND:20260125T104500Z
TZID:Europe/Budapest
LOCATION:
SUMMARY:Ciróka Bábszínház: Almafácska
DESCRIPTION:A 0-4 éves korosztályt és szüleiket\,  nagyszüleiket várja a Lóvasút babaszínházi sorozata. A januári előadást a kecskeméti Ciróka Bábszínház hozza. Történetünk főszereplője egy almafa. Magányosan álldogál\,  de ha figyelmesek vagyunk\,  láthatjuk\,  mennyi minden történik körülötte! Tavasszal virágot bont\,  méhecskék zsongják körül\,  ágai között kismadár születik. Nyáron almák piroslanak rajta és[..]\nhttps://lovasut.hu/events/ciroka-babszinhaz-almafacska/
URL:https://lovasut.hu/events/ciroka-babszinhaz-almafacska/
END:VEVENT
END:VCALENDAR