BEGIN:VCALENDAR
VERSION:2.0
PRODID:-//eventon.com NONSGML v1.0//EN
CALSCALE:GREGORIAN
METHOD:PUBLISH
BEGIN:VEVENT
UID:69e69ae68ecd4
DTSTAMP:20260420T233014
DTSTART:20260212T193000Z
DTEND:20260212T204500Z
TZID:Europe/Budapest
LOCATION:
SUMMARY:Lassan
DESCRIPTION:– Bocs. – Ki hívott? – Senki se hívott. – Miért nem vetted fel? – Ez csak emlékeztető volt. – Mire emlékeztet? – Hogy el ne felejtsek valamit. – Te nem szoktál elfelejteni dolgokat. – Dehogynem… Csak nehezen. A dráma a kommunikációképtelenségről beszél: tudunk kérdezni egymástól? Egyáltalán akarunk? Mitől tartunk?[..]\nhttps://lovasut.hu/events/lassan-260212/
URL:https://lovasut.hu/events/lassan-260212/
END:VEVENT
END:VCALENDAR