BEGIN:VCALENDAR
VERSION:2.0
PRODID:-//eventon.com NONSGML v1.0//EN
CALSCALE:GREGORIAN
METHOD:PUBLISH
BEGIN:VEVENT
UID:69e682892f3e2
DTSTAMP:20260420T214617
DTSTART:20260301T100000Z
DTEND:20260301T104500Z
TZID:Europe/Budapest
LOCATION:
SUMMARY:Békakerekítő
DESCRIPTION:A 0-4 éves korosztályt és szüleiket\,  nagyszüleiket várja a Lóvasút babaszínházi sorozata. Március 1-jén a Békakerekítő című babaszínházi előadás lesz látható a Lóvasúton Alexics Rita és Szilágyi Kinga Katinka előadásában. Csecsemőszínházi előadás a békákról\,  hárfás zenei kísérettel. Az előadás során elhangzanak ismertebb és talán kevésbé ismert gyerekmondókák\,  versikék és népdalok[..]\nhttps://lovasut.hu/events/bekakerekito/
URL:https://lovasut.hu/events/bekakerekito/
END:VEVENT
END:VCALENDAR