BEGIN:VCALENDAR
VERSION:2.0
PRODID:-//eventon.com NONSGML v1.0//EN
CALSCALE:GREGORIAN
METHOD:PUBLISH
BEGIN:VEVENT
UID:69e69eb64b26c
DTSTAMP:20260420T234630
DTSTART:20260201T103000Z
DTEND:20260201T111500Z
TZID:Europe/Budapest
LOCATION:
SUMMARY:Ebcsont és nyúlcipő
DESCRIPTION:Folytatódik a zugligeti Lóvasút Kulturális és Rendezvényközpont bábszínházi sorozata! 2026. febuár 1. (vasárnap) 10:30 Ebcsont és nyúlcipő A Bábrándozók előadása Egy kutya és egy nyúl váratlanul kettesben maradnak a kutya gazdájának otthonában. A vendég igen elkényeztetett hölgy\,  Európa Szépe bajnoki címmel &#8211; megszokta\,  hogy minden róla szól\,  és minden jár[..]\nhttps://lovasut.hu/events/ebcsont-es-nyulcipo/
URL:https://lovasut.hu/events/ebcsont-es-nyulcipo/
END:VEVENT
END:VCALENDAR