BEGIN:VCALENDAR
VERSION:2.0
PRODID:-//eventon.com NONSGML v1.0//EN
CALSCALE:GREGORIAN
METHOD:PUBLISH
BEGIN:VEVENT
UID:69e6866768973
DTSTAMP:20260420T220247
DTSTART:20260228T190000Z
DTEND:20260228T203000Z
TZID:Europe/Budapest
LOCATION:
SUMMARY:Gerendás Péter trió
DESCRIPTION:Február 28-án érdekes koncertet láthat a közönség a Lóvasút rendezvényközpontban. Gerendás Péter legújabb trió projektje! Kézdy Luca (hegedű) és Mády Kálmán (ütőhangszerek) az elmúlt 50 év legismertebb Gerendás dalai fognak elhangzani\,  ebben a különleges hangszerelésben. A két közreműködő művész egyéb hangszereket is meg fog szólaltatni.\nhttps://lovasut.hu/events/gerendas-peter-trio/
URL:https://lovasut.hu/events/gerendas-peter-trio/
END:VEVENT
END:VCALENDAR