BEGIN:VCALENDAR
VERSION:2.0
PRODID:-//eventon.com NONSGML v1.0//EN
CALSCALE:GREGORIAN
METHOD:PUBLISH
BEGIN:VEVENT
UID:69e699ffb15c3
DTSTAMP:20260420T232623
DTSTART:20260115T100000Z
DTEND:20260115T104500Z
TZID:Europe/Budapest
LOCATION:
SUMMARY:Bábrándozók: Tudja a manó! Az ég tündérszoknyakék
DESCRIPTION:Bábjáték Lázár Ervin Manógyár című kötete alapján Van egy manó. Tupakka. Kicsoda?!? Hát Tupakka! Itt lakik Manófalván! Manódombok között kerekezik nap mint nap\,  hátán az ásója\,  mosolya az arcán. Amerre jár az árnyékból fény bújik elő\,  elillan a rosszkedv. Hogy nem ismered? Annyi baj legyen\,  most Te is vele tarthatsz\, [..]\nhttps://lovasut.hu/events/babrandozok-tudja-a-mano-az-eg-tunderszoknyakek/
URL:https://lovasut.hu/events/babrandozok-tudja-a-mano-az-eg-tunderszoknyakek/
END:VEVENT
END:VCALENDAR