BEGIN:VCALENDAR
VERSION:2.0
PRODID:-//eventon.com NONSGML v1.0//EN
CALSCALE:GREGORIAN
METHOD:PUBLISH
BEGIN:VEVENT
UID:69e6666eb3648
DTSTAMP:20260420T194622
DTSTART:20260319T100000Z
DTEND:20260319T104500Z
TZID:Europe/Budapest
LOCATION:
SUMMARY:Bábrándozók: Mama három kismalaca
DESCRIPTION:A Bábrándozók társulat bábelőadása a Lóvasúton hétköznap délelőtt ovis csoportok és családok számára. A Mama komódja nehéz. Talán azért\,  mert tele van mindenféle kacattal\,  a vázától a sebtapaszon át a vattacukorig. Vagy talán azért nehéz\,  mert van benne egy mese… Egy mese\,  amit jól ismerünk. Ami szól a veszélyről\,  a[..]\nhttps://lovasut.hu/events/babrandozok-mama-harom-kismalaca/
URL:https://lovasut.hu/events/babrandozok-mama-harom-kismalaca/
END:VEVENT
END:VCALENDAR