BEGIN:VCALENDAR
VERSION:2.0
PRODID:-//eventon.com NONSGML v1.0//EN
CALSCALE:GREGORIAN
METHOD:PUBLISH
BEGIN:VEVENT
UID:69e6667416584
DTSTAMP:20260420T194628
DTSTART:20260408T190000Z
DTEND:20260408T203000Z
TZID:Europe/Budapest
LOCATION:
SUMMARY:MONDJ IGENT!
DESCRIPTION:Igaz történet alapján A MONDJ IGENT! monodráma Eszter történetét meséli el\,  akit befolyásos és vagyonos apja évekkel ezelőtt férjhez akart adni egy barátja fiához\,  pusztán vagyoni érdekből\,  de Eszter hallani sem akart erről. Ő saját életet\,  saját szakmát épít\,  a saját útját akarja járni gyerekkora óta. Ez az út ugyan[..]\nhttps://lovasut.hu/events/mondj-igent-0408/
URL:https://lovasut.hu/events/mondj-igent-0408/
END:VEVENT
END:VCALENDAR