BEGIN:VCALENDAR
VERSION:2.0
PRODID:-//eventon.com NONSGML v1.0//EN
CALSCALE:GREGORIAN
METHOD:PUBLISH
BEGIN:VEVENT
UID:69e8edb2b6dd1
DTSTAMP:20260422T174802
DTSTART:20260621T100000Z
DTEND:20260621T120000Z
TZID:Europe/Budapest
LOCATION:
SUMMARY:Nyárindító Ringató koncert
DESCRIPTION:Szeptembertől júniusig minden szerdán 9:30-tól Sándorné Krizsán Ildikó tart Ringató foglalkozást a Lóvasút Kulturális és Rendezvényközpontban. Ezen a június 21-i családi programon várjuk a foglalkozásokra járókat\,  a járni tervezőket\,  nagytestvéreket\,  és mindenkit\,  aki szívesen kipróbálná a Ringatózást! A Ringató célja nemcsak a szórakoztatás\,  hanem az értékek átadása már a legkisebb[..]\nhttps://lovasut.hu/events/nyarindito-ringato-koncert/
URL:https://lovasut.hu/events/nyarindito-ringato-koncert/
END:VEVENT
END:VCALENDAR