BEGIN:VCALENDAR
VERSION:2.0
PRODID:-//eventon.com NONSGML v1.0//EN
CALSCALE:GREGORIAN
METHOD:PUBLISH
BEGIN:VEVENT
UID:69e776f9f341a
DTSTAMP:20260421T150913
DTSTART:20181009T190000Z
DTEND:20181009T211100Z
TZID:Europe/Budapest
LOCATION:
SUMMARY:Csak elmondani adj erőt!
DESCRIPTION:Csukás István legszebb felnőtt versei Závory Andrea előadásában. (16 éven felülieknek) Csukás István versei\nhttps://lovasut.hu/events/csak-elmondani-adj-erot/
URL:https://lovasut.hu/events/csak-elmondani-adj-erot/
END:VEVENT
END:VCALENDAR